BEGIN:VCALENDAR
VERSION:2.0
PRODID:-//ExpressionEngine Easy iCalendar plugin//NONSGML v2.0.1//EN
X-WR-TIMEZONE:America/New_York
X-WR-CALNAME:Upcoming Auctions
BEGIN:VEVENT
UID:28699
DTSTAMP:20170806T140000
DTSTART:20170806T140000
DTEND:20170814T190000
SUMMARY:3rd and Final Phase of the Dale Ln. auction
LOCATION:{location}
DESCRIPTION:Highlights include Globe Wernicke and Gunn Furniture barrist
 er bookcases\, cherry double bed\, 4-piece Lance jar set\, pull
 eys\, ice picks\, marbles\, carvings\, wood working tools\, oil l
 amps\, shelving units\, artwork\, and more!
URL:https://www.wardlowauc.com/auctions/detail/3rd-and-final-pha
 se-of-the-dale-ln.-auction-bw28699
SEQUENCE:1
END:VEVENT
END:VCALENDAR