BEGIN:VCALENDAR
VERSION:2.0
PRODID:-//ExpressionEngine Easy iCalendar plugin//NONSGML v2.0.0//EN
X-WR-TIMEZONE:America/New_York
X-WR-CALNAME:Upcoming Auctions
BEGIN:VEVENT
UID:160786
DTSTAMP:20260429T120000
DTSTART:20260429T120000
DTEND:20260506T190000
SUMMARY:Downsizing Auction in Simpsonville
LOCATION:{location}
DESCRIPTION:Coming at the end of this month are offerings from a gorgeou
 s home in the rolling hills of Simpsonville. Highlights incl
 ude antique spool cabinets\, spirits\, quality reproduction fu
 rniture\, and collectibles.
URL:https://www.wardlowauc.com/auctions/detail/bw160786
SEQUENCE:1
END:VEVENT
END:VCALENDAR