BEGIN:VCALENDAR
VERSION:2.0
PRODID:-//ExpressionEngine Easy iCalendar plugin//NONSGML v2.0.0//EN
X-WR-TIMEZONE:America/New_York
X-WR-CALNAME:Upcoming Auctions
BEGIN:VEVENT
UID:57731
DTSTAMP:20201129T170000
DTSTART:20201129T170000
DTEND:20201208T190000
SUMMARY:Online Only Estate Auction in J-Town Night 2
LOCATION:14125 Hickory Hills Trail\, Louisville\, KY 40299\, US
DESCRIPTION:2 Phases and 2 Nights of Closing! Highlights include: Antiqu
 es\, handmade quilts\, furniture\, collectibles\, advertising pi
 eces\, Louisville Stoneware\, dozens of Paul Sawyier prints\, g
 old\, sterling & costume jewelry\, LOTS of Christmas décor\, t
 ools\, home accents\, lamps\, and much more!
URL:https://www.wardlowauc.com/auctions/detail/bw57731
SEQUENCE:1
END:VEVENT
END:VCALENDAR