BEGIN:VCALENDAR
VERSION:2.0
PRODID:-//ExpressionEngine Easy iCalendar plugin//NONSGML v2.0.1//EN
X-WR-TIMEZONE:America/New_York
X-WR-CALNAME:Upcoming Auctions
BEGIN:VEVENT
UID:60236
DTSTAMP:20210213T104300
DTSTART:20210213T104300
DTEND:20210302T190000
SUMMARY:Absolute Downsizing Auction – 4802 S. 4th St.\, 40214 (Just
  off Southern Parkway)
LOCATION:4802 S. 4th St.\, Louisville\, KY 40214\, US
DESCRIPTION:Stunning 1870’s walnut sideboard with walnut deer mount\, t
 wo late Victorian gas converted chandeliers\, 1870’s parlor
  table & pair of parlor chairs\, hall tree with beveled mirro
 r\, birdseye maple dresser & chest. 1900’s cherry étagère
 \, Wurlitzer Victrola\, artwork\, Eastlake Victorian Steamboat 
 Deck Chair\, ornate Victorian fireplace grate\, Marshall Field
 s steamer wardrobe trunk\, WHAS radio memorabilia\, books\, rec
 ords\, vintage electronics\, and more!
URL:https://www.wardlowauc.com/auctions/detail/bw60236
SEQUENCE:1
END:VEVENT
END:VCALENDAR