BEGIN:VCALENDAR
VERSION:2.0
PRODID:-//ExpressionEngine Easy iCalendar plugin//NONSGML v2.0.0//EN
X-WR-TIMEZONE:America/New_York
X-WR-CALNAME:Upcoming Auctions
BEGIN:VEVENT
UID:63396
DTSTAMP:20210525T100000
DTSTART:20210525T100000
DTEND:20210602T190000
SUMMARY:Jewelry & Brahmin Handbags Auction
LOCATION:3600 Chamberlain Ln.\, Ste. 356\, Louisville\, KY 40241\, US
DESCRIPTION:200 lots of jewelry and Brahmin handbags. Highlights include
  sterling turquoise\, antique\, amber\, and artisan handcrafted
  jewelry\, plus new/like new Brahmin leather handbags.
URL:https://www.wardlowauc.com/auctions/detail/bw63396
SEQUENCE:1
END:VEVENT
END:VCALENDAR