BEGIN:VCALENDAR
VERSION:2.0
PRODID:-//ExpressionEngine Easy iCalendar plugin//NONSGML v2.0.0//EN
X-WR-TIMEZONE:America/New_York
X-WR-CALNAME:Upcoming Auctions
BEGIN:VEVENT
UID:70540
DTSTAMP:20211008T130000
DTSTART:20211008T130000
DTEND:20211018T190000
SUMMARY:Fashion & Jewelry Auction
LOCATION:3600 Chamberlain Ln.\, Suite 356\, Louisville\, KY 40241\, US
DESCRIPTION:Time to update your fall wardrobe! This auction has designer
  handbags by Brahmin\, Coach\, Kate Spade\, a vintage cheetah a
 nd mink fur coat\, and 100+ lots of jewelry - gold\, sterling\,
  diamond rings\, costume\, vintage and much more.
URL:https://www.wardlowauc.com/auctions/detail/bw70540
SEQUENCE:1
END:VEVENT
END:VCALENDAR