BEGIN:VCALENDAR
VERSION:2.0
PRODID:-//ExpressionEngine Easy iCalendar plugin//NONSGML v2.0.0//EN
X-WR-TIMEZONE:America/New_York
X-WR-CALNAME:Upcoming Auctions
BEGIN:VEVENT
UID:78789
DTSTAMP:20220403T080000
DTSTART:20220403T080000
DTEND:20220411T190000
SUMMARY:Downsizing Auction in Thousand Oaks- 40205
LOCATION:3111 Thousand Oaks Dr.\, Louisville\, KY 40205\, US
DESCRIPTION:Check out this eye-catching\, massive downsizing auction for 
 a couple that moved to Florida and left a full house behind.
  These rooms are filled with custom made and fine furniture\,
  handmade wool rugs\, Waterford and Tiffany crystal\, beautifu
 l decanters and a player piano. The party zone is out back\, 
 where you can even buy the tiki bar that served the drinks. 
 Downstairs you'll find military collectibles\, gun safes\, vin
 tage fishing gear\, high end electronics\, snowmobile and outd
 oor gear\, and much more. This is one of those auctions with 
 something to interest everyone!
URL:https://www.wardlowauc.com/auctions/detail/bw78789
SEQUENCE:1
END:VEVENT
END:VCALENDAR