BEGIN:VCALENDAR
VERSION:2.0
PRODID:-//ExpressionEngine Easy iCalendar plugin//NONSGML v2.0.1//EN
X-WR-TIMEZONE:America/New_York
X-WR-CALNAME:Upcoming Auctions
BEGIN:VEVENT
UID:81904
DTSTAMP:20220529T100000
DTSTART:20220529T100000
DTEND:20220614T190000
SUMMARY:Absolute Real Estate Auction - Online Only
LOCATION:{location}
DESCRIPTION:It’s Back!!  Title is now good to convey.  This home app
 ears to have good bones but has been vacant and needs some a
 ttention\; 1.5 story home with 3 bedrooms\, 1.5 baths\, hardwoo
 d floors.  Walk-out full basement with a full bath.  Plus 
 enclosed side porch.  Located in Louisville’s Iroquois Pa
 rk area.
URL:https://www.wardlowauc.com/auctions/detail/bw81904
SEQUENCE:1
END:VEVENT
END:VCALENDAR