BEGIN:VCALENDAR
VERSION:2.0
PRODID:-//ExpressionEngine Easy iCalendar plugin//NONSGML v2.0.0//EN
X-WR-TIMEZONE:America/New_York
X-WR-CALNAME:Upcoming Auctions
BEGIN:VEVENT
UID:30937
DTSTAMP:20180919T133000
DTSTART:20180919T133000
DTEND:20181001T190000
SUMMARY:Special Coin Auction - Absolute - Online Only
LOCATION:12200 Shelbyville Rd.\, Louisville\, KY 40243\, US
DESCRIPTION:Coins spanning 147 years beginning in 1857 and consisting of
  silver dollars\, halves\, quarters\, dimes\, nickels\, cents\, go
 ld\, Krugerrand\, uncirculated\, proof\, commemorative\, ancient\,
  foreign and scarce coins.
URL:https://www.wardlowauc.com/auctions/detail/special-coin-auct
 ion-absolute-online-only-bw30937
SEQUENCE:1
END:VEVENT
END:VCALENDAR